BEGIN:VCALENDAR
VERSION:2.0
PRODID:-//Tukios.com/
BEGIN:VEVENT
UID:6d000ed7-ffb7-4493-937e-ccf9d7c8e78e@www.menkefuneralhome.com
DTSTAMP:20260421T000749Z
DTSTART:20260501T180000Z
DTEND:20260501T190000Z
SUMMARY:Memorial Service
DESCRIPTION:
URL:https://www.menkefuneralhome.com/obituaries/harriett-fortner
LOCATION: 12420 N 103rd Ave  Sun City AZ 85351
GEO:33.5981832;-112.2816014
END:VEVENT
END:VCALENDAR