BEGIN:VCALENDAR
VERSION:2.0
PRODID:-//Tukios.com/
BEGIN:VEVENT
UID:35a46b4b-1d19-43dd-bfd4-ed3d0e7f45ae@www.menkefuneralhome.com
DTSTAMP:20260421T221323Z
DTSTART:20260523T220000Z
DTEND:20260523T230000Z
SUMMARY:Memorial Service
DESCRIPTION:
URL:https://www.menkefuneralhome.com/obituaries/jacqueline-kottmann
LOCATION:Dove of the Desert United Methodist Church 7201 West Beardsley 
	Road  Glendale AZ 85308
GEO:33.6654909;-112.2148877
END:VEVENT
END:VCALENDAR