BEGIN:VCALENDAR
VERSION:2.0
PRODID:-//Tukios.com/
BEGIN:VEVENT
UID:dbd0fd90-19cb-4efe-a831-f74b1c2d68f5@www.menkefuneralhome.com
DTSTAMP:20260421T090959Z
DTSTART:20260425T210000Z
DTEND:20260425T220000Z
SUMMARY:Memorial Service
DESCRIPTION:
URL:https://www.menkefuneralhome.com/obituaries/jerry-wood
LOCATION: 12420 N 103rd Ave  Sun City AZ 85351
GEO:33.5981832;-112.2816014
END:VEVENT
END:VCALENDAR